0.150
0
0
-0.150
563370.075
4696409.925
