0.150
0
0
-0.150
576979.875
4705810.125
