0.150
0
0
-0.150
570150.075
4703420.025
