0.150
0
0
-0.150
583879.875
4701269.925
