0.150
0
0
-0.150
566769.975
4698760.125
