0.150
0
0
-0.150
590760.075
4699040.025
