0.150
0
0
-0.150
580530.075
4694290.125
