0.150
0
0
-0.150
604369.875
4706180.025
