0.150
0
0
-0.150
611209.875
4706290.125
