0.150
0
0
-0.150
607899.975
4699300.125
