0.150
0
0
-0.150
594219.975
4696780.125
