0.150
0
0
-0.150
631839.975
4702030.125
