0.150
0
0
-0.150
655819.875
4702540.125
