0.150
0
0
-0.150
649020.075
4700069.925
