0.150
0
0
-0.150
594379.875
4685210.025
