0.150
0
0
-0.150
618649.875
4671710.025
