0.150
0
0
-0.150
621930.075
4681019.925
