0.150
0
0
-0.150
632239.875
4681210.125
