0.150
0
0
-0.150
628879.875
4676519.925
