0.150
0
0
-0.150
594619.875
4666709.925
