0.150
0
0
-0.150
594720.075
4659770.025
