1.000000
0.000000
0.000000
-1.000000
552711.500000
4756444.500000
