1.000000
0.000000
0.000000
-1.000000
573010.500000
4752129.500000
