1.000000
0.000000
0.000000
-1.000000
627340.500000
4757609.500000
