1.000000
0.000000
0.000000
-1.000000
682067.500000
4754154.500000
