1.000000
0.000000
0.000000
-1.000000
627600.500000
4743729.500000
