1.000000
0.000000
0.000000
-1.000000
552820.500000
4724159.500000
