1.000000
0.000000
0.000000
-1.000000
559650.500000
4724219.500000
