1.000000
0.000000
0.000000
-1.000000
559690.500000
4719599.500000
