1.000000
0.000000
0.000000
-1.000000
614280.500000
4724969.500000
