1.000000
0.000000
0.000000
-1.000000
600820.500000
4710859.500000
