1.000000
0.000000
0.000000
-1.000000
634860.500000
4720729.500000
