1.000000
0.000000
0.000000
-1.000000
642080.500000
4711510.500000
