1.000000
0.000000
0.000000
-1.000000
559890.500000
4696459.500000
