1.000000
0.000000
0.000000
-1.000000
607810.500000
4701719.500000
