1.000000
0.000000
0.000000
-1.000000
607880.500000
4697089.500000
