1.000000
0.000000
0.000000
-1.000000
622240.500000
4660309.500000
