1.000000
0.000000
0.000000
-1.000000
586380.500000
4770809.500000
