1.000000
0.000000
0.000000
-1.000000
572860.500000
4766009.500000
