1.000000
0.000000
0.000000
-1.000000
620220.500000
4775989.500000
