2.500000
0.000000
0.000000
-2.500000
661836.250000
4735373.750000
