2.500000
0.000000
0.000000
-2.500000
675241.250000
4744973.750000
