2.500000
0.000000
0.000000
-2.500000
566388.750000
4724446.250000
