2.500000
0.000000
0.000000
-2.500000
566486.250000
4715193.750000
