2.500000
0.000000
0.000000
-2.500000
593723.750000
4724788.750000
