2.500000
0.000000
0.000000
-2.500000
594126.250000
4697031.250000
