2.500000
0.000000
0.000000
-2.500000
608453.750000
4660233.750000
