2.500000
0.000000
0.000000
-2.500000
622416.250000
4651218.750000
