2.500000
0.000000
0.000000
-2.500000
606161.250000
4799033.750000
