2.500000
0.000000
0.000000
-2.500000
606623.750000
4771268.750000
